BEGIN:VCALENDAR
VERSION:2.0
PRODID:-//eventon.com NONSGML v1.0//EN
CALSCALE:GREGORIAN
METHOD:PUBLISH
BEGIN:VEVENT
UID:69e4d02ed2ecf
DTSTAMP:20260419T125302Z
DTSTART:20260604T133000Z
DTEND:20260605T190000Z
LOCATION:HILTON GARDEN INN BARRANQUILLA Carrera 53\,  Calle 100-86
SUMMARY:1ERA CONVENCION ANUAL DE CONTROL SOCIAL Y GOBERNANZA SOLIDARIA 2026
DESCRIPTION:inscripciĆ³n visita aquĆ­ el sitio oficial de la 1era convenciĆ
 ³n de control social y gobernanza solidaria.\nhttps://asoriesgo.org/events/
 cacs-2026/
URL:https://asoriesgo.org/events/cacs-2026/
END:VEVENT
END:VCALENDAR